BEGIN:VCALENDAR
VERSION:2.0
PRODID:-//wp-events-plugin.com//7.2.3.1//EN
TZID:Europe/Berlin
X-WR-TIMEZONE:Europe/Berlin
BEGIN:VEVENT
UID:19@gemeinde-wisch.de
DTSTART;TZID=Europe/Berlin:20221109T150000
DTEND;TZID=Europe/Berlin:20221109T170000
DTSTAMP:20220818T120127Z
URL:https://gemeinde-wisch.de/events/spielenachmittag-2022-11-09/
SUMMARY:Spielenachmittag
DESCRIPTION:Brettspiele\, Skat\, Kniffel u.v.m. mit Kaffee und Kuchen.\nKon
 takt: Ruth Jonsson 04344 – 412692
END:VEVENT
BEGIN:VTIMEZONE
TZID:Europe/Berlin
X-LIC-LOCATION:Europe/Berlin
BEGIN:STANDARD
DTSTART:20221030T020000
TZOFFSETFROM:+0200
TZOFFSETTO:+0100
TZNAME:CET
END:STANDARD
END:VTIMEZONE
END:VCALENDAR