BEGIN:VCALENDAR
VERSION:2.0
PRODID:-//wp-events-plugin.com//7.2.3.1//EN
TZID:Europe/Berlin
X-WR-TIMEZONE:Europe/Berlin
BEGIN:VEVENT
UID:437@gemeinde-wisch.de
DTSTART;TZID=Europe/Berlin:20260120T193000
DTEND;TZID=Europe/Berlin:20260120T210000
DTSTAMP:20260118T180121Z
URL:https://gemeinde-wisch.de/events/sitzung-des-finanzausschusses-3/
SUMMARY:Sitzung des Finanzausschusses
DESCRIPTION:Die Mitglieder des Finanzausschusses beraten in öffentlicher S
 itzung die Punkte der Tagesordnung:\n\nEinladung FA Wisch_20-01-2026
CATEGORIES:Gemeinde
LOCATION:Rathaus Schönberg\, Knüll 4\, Besprechungsraum I (Zimmer 218)\, 
 24217 Schönberg\, Deutschland
X-APPLE-STRUCTURED-LOCATION;VALUE=URI;X-ADDRESS=Knüll 4\, Besprechungsraum
  I (Zimmer 218)\, 24217 Schönberg\, Deutschland;X-APPLE-RADIUS=100;X-TITL
 E=Rathaus Schönberg:geo:0,0
END:VEVENT
BEGIN:VTIMEZONE
TZID:Europe/Berlin
X-LIC-LOCATION:Europe/Berlin
BEGIN:STANDARD
DTSTART:20251026T020000
TZOFFSETFROM:+0200
TZOFFSETTO:+0100
TZNAME:CET
END:STANDARD
END:VTIMEZONE
END:VCALENDAR