BEGIN:VCALENDAR
VERSION:2.0
PRODID:-//wp-events-plugin.com//7.2.3.1//EN
TZID:Europe/Berlin
X-WR-TIMEZONE:Europe/Berlin
BEGIN:VEVENT
UID:98@gemeinde-wisch.de
DTSTART;TZID=Europe/Berlin:20230926T193000
DTEND;TZID=Europe/Berlin:20230926T193000
DTSTAMP:20230915T182001Z
URL:https://gemeinde-wisch.de/events/sitzung-der-gemeindevertretung-wisch/
SUMMARY:Sitzung der Gemeindevertretung Wisch
DESCRIPTION:Am 26.09.2023 um 19.30 Uhr findet die öffentliche Sitzung der 
 Gemeindevertretung Wisch mit folgender Tagesordnung statt:\n\nEinladungGem
 .Wisch
CATEGORIES:Gemeinde
LOCATION:Multifunktionsraum ehemalige Grundschule\, Am Kaiserberg 1a\, 2421
 7 Wisch\, Deutschland
X-APPLE-STRUCTURED-LOCATION;VALUE=URI;X-ADDRESS=Am Kaiserberg 1a\, 24217 Wi
 sch\, Deutschland;X-APPLE-RADIUS=100;X-TITLE=Multifunktionsraum ehemalige 
 Grundschule:geo:0,0
END:VEVENT
BEGIN:VTIMEZONE
TZID:Europe/Berlin
X-LIC-LOCATION:Europe/Berlin
BEGIN:DAYLIGHT
DTSTART:20230326T030000
TZOFFSETFROM:+0100
TZOFFSETTO:+0200
TZNAME:CEST
END:DAYLIGHT
END:VTIMEZONE
END:VCALENDAR