BEGIN:VCALENDAR
VERSION:2.0
PRODID:-//wp-events-plugin.com//7.2.3.1//EN
TZID:Europe/Berlin
X-WR-TIMEZONE:Europe/Berlin
BEGIN:VEVENT
UID:424@gemeinde-wisch.de
DTSTART;TZID=Europe/Berlin:20250610T193000
DTEND;TZID=Europe/Berlin:20250610T220000
DTSTAMP:20250602T191408Z
URL:https://gemeinde-wisch.de/events/sitzung-der-gemeindevertretung-5/
SUMMARY:Sitzung der Gemeindevertretung
DESCRIPTION:Die Gemeindevertretung der Gemeinde Wisch berät\nam 10. Juni u
 m 19.30 Uhr\nim Multifunktionsraum der ehemaligen Grundschule\ndie Themen 
 der Tagesordnung (siehe Einladung).\n\nZu der öffentlichen Sitzung sind a
 lle interessierten Bürger*innen herzlich willkommen.\n\nWisch_GV_Einladun
 g
CATEGORIES:Gemeinde
LOCATION:Multifunktionsraum ehemalige Grundschule\, Am Kaiserberg 1a\, 2421
 7 Wisch\, Deutschland
X-APPLE-STRUCTURED-LOCATION;VALUE=URI;X-ADDRESS=Am Kaiserberg 1a\, 24217 Wi
 sch\, Deutschland;X-APPLE-RADIUS=100;X-TITLE=Multifunktionsraum ehemalige 
 Grundschule:geo:0,0
END:VEVENT
BEGIN:VTIMEZONE
TZID:Europe/Berlin
X-LIC-LOCATION:Europe/Berlin
BEGIN:DAYLIGHT
DTSTART:20250330T030000
TZOFFSETFROM:+0100
TZOFFSETTO:+0200
TZNAME:CEST
END:DAYLIGHT
END:VTIMEZONE
END:VCALENDAR