BEGIN:VCALENDAR
VERSION:2.0
PRODID:-//wp-events-plugin.com//7.2.3.1//EN
TZID:Europe/Berlin
X-WR-TIMEZONE:Europe/Berlin
BEGIN:VEVENT
UID:122@gemeinde-wisch.de
DTSTART;TZID=Europe/Berlin:20241206T173000
DTEND;TZID=Europe/Berlin:20241206T184500
DTSTAMP:20241129T080612Z
URL:https://gemeinde-wisch.de/events/nikolaus-aktion-der-ffpn/
SUMMARY:Nikolaus-Aktion der FFPN
DESCRIPTION:Aufgepasst\, liebe Kinder!\n\nDer Nikolaus kommt mit seinen Hel
 fern von der Feuerwehr im geschmückten Feuerwehrauto in die Dörfer Barsb
 ek\, Krokau und Wisch.\n\nDa gibt es eine Überraschung für Euch!\n\nIn W
 isch ca. 18.20 Uhr am Dörpshuus...\n\n
CATEGORIES:Veranstaltungen anderer Träger
END:VEVENT
BEGIN:VTIMEZONE
TZID:Europe/Berlin
X-LIC-LOCATION:Europe/Berlin
BEGIN:STANDARD
DTSTART:20241027T020000
TZOFFSETFROM:+0200
TZOFFSETTO:+0100
TZNAME:CET
END:STANDARD
END:VTIMEZONE
END:VCALENDAR