BEGIN:VCALENDAR
VERSION:2.0
PRODID:-//wp-events-plugin.com//7.2.3.1//EN
TZID:Europe/Berlin
X-WR-TIMEZONE:Europe/Berlin
BEGIN:VEVENT
UID:425@gemeinde-wisch.de
DTSTART;TZID=Europe/Berlin:20250614T190000
DTEND;TZID=Europe/Berlin:20250614T200000
DTSTAMP:20250602T193953Z
URL:https://gemeinde-wisch.de/events/ernaehrungs-workshop/
SUMMARY:Ernährungs-Workshop
DESCRIPTION:Gesunde Ernährung in der Famile -\nGemeinsam fit durchs Leben\
 n\n\n&nbsp\;\n\n&nbsp\;\n\nDie Gemeinde Wisch lädt alle Interessierten zu
  einem Abend rund um das Thema "Gesunde Ernährung" ein.\n\nUnsere Referen
 tin\nJasmin Jörg ist Ernährungsberaterin.\nSie wird die Grundlagen einer
  gesunden Ernährung erklären und Tipps für die Umsetzung in der Familie
  und mit Kindern geben.
CATEGORIES:Gemeinde
LOCATION:Multifunktionsraum ehemalige Grundschule\, Am Kaiserberg 1a\, 2421
 7 Wisch\, Deutschland
X-APPLE-STRUCTURED-LOCATION;VALUE=URI;X-ADDRESS=Am Kaiserberg 1a\, 24217 Wi
 sch\, Deutschland;X-APPLE-RADIUS=100;X-TITLE=Multifunktionsraum ehemalige 
 Grundschule:geo:0,0
END:VEVENT
BEGIN:VTIMEZONE
TZID:Europe/Berlin
X-LIC-LOCATION:Europe/Berlin
BEGIN:DAYLIGHT
DTSTART:20250330T030000
TZOFFSETFROM:+0100
TZOFFSETTO:+0200
TZNAME:CEST
END:DAYLIGHT
END:VTIMEZONE
END:VCALENDAR