BEGIN:VCALENDAR
VERSION:2.0
PRODID:-//wp-events-plugin.com//7.2.3.1//EN
TZID:Europe/Berlin
X-WR-TIMEZONE:Europe/Berlin
BEGIN:VEVENT
UID:433@gemeinde-wisch.de
DTSTART;TZID=Europe/Berlin:20260105T110000
DTEND;TZID=Europe/Berlin:20260105T174500
DTSTAMP:20251204T182127Z
URL:https://gemeinde-wisch.de/events/drum-day-probstei-krach-fuer-kids-und
 -junggebliebene/
SUMMARY:Drum Day Probstei - Krach für Kids und Junggebliebene
DESCRIPTION:\n\nFlyer_DrumDayProbstei_152x214\n\n\nDrum Day Probstei – 5.
 1.2026 - Krach für Kids und Junggebliebene!\n\n\n\nIm Kulturzentrum Ole S
 chool in Wisch an der Ostsee wird’s am 5. Januar 2026 laut\, groovy und 
 richtig spaßig! Beim Drum Day Probstei können Kinder\, Erwachsene und al
 le Junggebliebenen in die Welt des Schlagzeugspielens eintauchen – ganz 
 ohne Vorkenntnisse.\n\nGeführt von professionellen Drummern\, die mit Lei
 denschaft\, Erfahrung und jeder Menge Energie zeigen\, wie viel Freude im 
 Rhythmus steckt\, erlebt ihr einen Workshop voller Beats\, Power und Kreat
 ivität. Egal ob du zum ersten Mal an den Sticks stehst oder endlich eine 
 alte Leidenschaft wieder aufleben lassen willst – hier bist du genau ric
 htig!\n\nDatum: 05.01.2026\n\nPreis: Nur 15 € pro Teilnehmer / 45 min.\n
 \n11.00 – 11.45 maximal 6 Teilnehmer\n12.00 – 12.45 maximal 6 Teilnehm
 er\n13.00 – 13.45 maximal 6 Teilnehmer\n15.00 – 15.45 maximal 6 Teilne
 hmer\n16.00 – 16.45 maximal 6 Teilnehmer\n17.00 – 17-45 maximal 6 Teil
 nehmer\n\nTickets: Jetzt sichern auf Tixforgigs.com  - QR-Code scannen\nO
 rt: Kulturzentrum „Ole School“\, Wisch\n\nKomm vorbei\, probier dich a
 us und mach mit uns Krach für Kids und Junggebliebene – wir freuen uns 
 auf deinen Groove!\n\nIn Zusammenarbeit mit der Gemeinde Wisch\n\n\n
CATEGORIES:Veranstaltungen anderer Träger
LOCATION:Kulturzentrum Ole School\, Am Kaiserberg 1a\, Wisch\, 24217\, Deut
 schland
X-APPLE-STRUCTURED-LOCATION;VALUE=URI;X-ADDRESS=Am Kaiserberg 1a\, Wisch\, 
 24217\, Deutschland;X-APPLE-RADIUS=100;X-TITLE=Kulturzentrum Ole School:ge
 o:0,0
END:VEVENT
BEGIN:VTIMEZONE
TZID:Europe/Berlin
X-LIC-LOCATION:Europe/Berlin
BEGIN:STANDARD
DTSTART:20251026T020000
TZOFFSETFROM:+0200
TZOFFSETTO:+0100
TZNAME:CET
END:STANDARD
END:VTIMEZONE
END:VCALENDAR