BEGIN:VCALENDAR
VERSION:2.0
PRODID:-//wp-events-plugin.com//7.2.3.1//EN
TZID:Europe/Berlin
X-WR-TIMEZONE:Europe/Berlin
BEGIN:VEVENT
UID:429@gemeinde-wisch.de
DTSTART;TZID=Europe/Berlin:20251026T130000
DTEND;TZID=Europe/Berlin:20251026T170000
DTSTAMP:20251021T114551Z
URL:https://gemeinde-wisch.de/events/bosseln-in-wisch/
SUMMARY:Boßeln in Wisch
DESCRIPTION:Der SPD-Ortsverein Wisch/Barsbek lädt alle herzlich ein zum tr
 aditionellen Boßeln in Wisch!\n\nTreffpunkt und Start ist am Dörpshuus (
 Redder 6\, 24217 Wisch).\nDas Boßeln in der Gemeinschaft verspricht viel 
 Spaß!\nAnschließend gibt es einen gemütlichen Ausklang mit Stärkung am
  Dörpshuus!\n\nEinladung zum Boßeln 26.10.25
CATEGORIES:Aktionen von Vereinen
LOCATION:Dörpshuus - Spielplatz\, Redder 6\, 24217 Wisch\, Deutschland
X-APPLE-STRUCTURED-LOCATION;VALUE=URI;X-ADDRESS=Redder 6\, 24217 Wisch\, De
 utschland;X-APPLE-RADIUS=100;X-TITLE=Dörpshuus - Spielplatz:geo:0,0
END:VEVENT
BEGIN:VTIMEZONE
TZID:Europe/Berlin
X-LIC-LOCATION:Europe/Berlin
BEGIN:STANDARD
DTSTART:20251026T020000
TZOFFSETFROM:+0200
TZOFFSETTO:+0100
TZNAME:CET
END:STANDARD
END:VTIMEZONE
END:VCALENDAR